BEGIN:VCALENDAR
VERSION:2.0
PRODID:-//TahviosBBQ - ECPv6.15.20//NONSGML v1.0//EN
CALSCALE:GREGORIAN
METHOD:PUBLISH
X-WR-CALNAME:TahviosBBQ
X-ORIGINAL-URL:https://tahviosbbq.com
X-WR-CALDESC:Events for TahviosBBQ
REFRESH-INTERVAL;VALUE=DURATION:PT1H
X-Robots-Tag:noindex
X-PUBLISHED-TTL:PT1H
BEGIN:VTIMEZONE
TZID:UTC
BEGIN:STANDARD
TZOFFSETFROM:+0000
TZOFFSETTO:+0000
TZNAME:UTC
DTSTART:20220101T000000
END:STANDARD
END:VTIMEZONE
BEGIN:VEVENT
DTSTART;TZID=UTC:20240504T130000
DTEND;TZID=UTC:20240504T210000
DTSTAMP:20260423T152035
CREATED:20240219T185451Z
LAST-MODIFIED:20240219T185451Z
UID:3691-1714827600-1714856400@tahviosbbq.com
SUMMARY:Yakima Taco Fest 2024
DESCRIPTION:The Central Washington Hispanic Chamber of Commerce presents the Yakima Taco Festival. A 21+ event. Join us as we bring our own style of traditional flavors to your favorite style of taco. This event is always fun and exciting for use to attend. Stay tuned to our social media for updates.
URL:https://tahviosbbq.com/event/yakima-taco-fest-2024/
LOCATION:Yakima State Fair Park\, 1301 S Fair Ave\, Yakima\, WA\, 98901\, United States
ATTACH;FMTTYPE=image/jpeg:https://tahviosbbq.com/wp-content/uploads/2024/02/TacoFest2024Tahvio.jpg
END:VEVENT
BEGIN:VEVENT
DTSTART;VALUE=DATE:20240427
DTEND;VALUE=DATE:20240428
DTSTAMP:20260423T152035
CREATED:20240219T184942Z
LAST-MODIFIED:20240219T184942Z
UID:3688-1714176000-1714262399@tahviosbbq.com
SUMMARY:Spring Barrel 2024
DESCRIPTION:Spring is an exciting time in the valley as the vineyards come to life and Yakima Valley wineries begin pouring new releases. Every April\, Spring Barrel Weekend delivers a unique wine tasting experience. Many makers pull tastes straight from the barrel\, giving you a sneak peak at how these young vintages may mature. You be the judge of the wines and the food as our lovely dishes and recipes you have grown to love will also be on site at the Whitman Hill Winery.
URL:https://tahviosbbq.com/event/spring-barrel-2024/
LOCATION:Whitman Hill Winery\, 9774 WA-14\, Goldendale\, WA\, 98620\, United States
ATTACH;FMTTYPE=image/jpeg:https://tahviosbbq.com/wp-content/uploads/2024/02/SB2024.jpg
END:VEVENT
BEGIN:VEVENT
DTSTART;TZID=UTC:20240420T090000
DTEND;TZID=UTC:20240421T180000
DTSTAMP:20260423T152035
CREATED:20240219T183847Z
LAST-MODIFIED:20240219T183847Z
UID:3686-1713603600-1713722400@tahviosbbq.com
SUMMARY:CWHBA Dozer Days 2024
DESCRIPTION:Join us as we bring our delicious flavors to the Yakima Fair Grounds on April 20-21\, 2024\, for Dozer Day®! A weekend where kids operate real construction equipment like bulldozers\, excavators\, and more under expert guidance. Enjoy a scavenger hunt\, obstacle courses\, and first-responder vehicle exploration. Learn about construction careers\, safety\, and teamwork. Exciting activities for all ages are provided by our community partners. Mark your calendars for a fun and educational family experience!
URL:https://tahviosbbq.com/event/cwhba-dozer-days-2024/
LOCATION:Yakima State Fair Park\, 1301 S Fair Ave\, Yakima\, WA\, 98901\, United States
ATTACH;FMTTYPE=image/jpeg:https://tahviosbbq.com/wp-content/uploads/2024/02/CWHBAdozer.jpg
END:VEVENT
BEGIN:VEVENT
DTSTART;TZID=UTC:20240309T170000
DTEND;TZID=UTC:20240309T210000
DTSTAMP:20260423T152035
CREATED:20240219T182955Z
LAST-MODIFIED:20240219T183201Z
UID:3684-1710003600-1710018000@tahviosbbq.com
SUMMARY:Yakima Valley Volleyball Club Jamboree 2024
DESCRIPTION:This tournament is played over two days. Typical format is  two rounds of pool play followed by single elimination playoffs. Teams usually play one full pool\, plus a match from Round 2 pool on Saturday; they complete the pool and have playoffs on Sunday. Tahvio’s BBQ will be there to satisfy all tastebuds along with other vendors as well. Make sure and come out to support this local event.
URL:https://tahviosbbq.com/event/yakima-valley-volleyball-club-jamboree-2024/
LOCATION:Sozo Sports Complex\, 2200 S. 36th Ave.\, Yakima\, WA\, 98902\, United States
ATTACH;FMTTYPE=image/jpeg:https://tahviosbbq.com/wp-content/uploads/2024/02/YVVCJ.jpg
END:VEVENT
BEGIN:VEVENT
DTSTART;VALUE=DATE:20240229
DTEND;VALUE=DATE:20240301
DTSTAMP:20260423T152035
CREATED:20240219T182031Z
LAST-MODIFIED:20240219T182031Z
UID:3675-1709164800-1709251199@tahviosbbq.com
SUMMARY:Davis High School BSU Black History Event
DESCRIPTION:Come out and support the Davis High School Black Student Union\, we will be there in full support. Special menu items and deals will be available on site\, check our social media pages for updates.
URL:https://tahviosbbq.com/event/davis-high-school-bsu-black-history-event/
LOCATION:Davis High School\, 212 S 6th Ave Yakima\, Yakima\, WA\, 98902\, United States
ATTACH;FMTTYPE=image/jpeg:https://tahviosbbq.com/wp-content/uploads/2024/02/BSU_davis.jpg
END:VEVENT
BEGIN:VEVENT
DTSTART;TZID=UTC:20230922T110000
DTEND;TZID=UTC:20231001T220000
DTSTAMP:20260423T152035
CREATED:20230802T164325Z
LAST-MODIFIED:20230802T164325Z
UID:3636-1695380400-1696197600@tahviosbbq.com
SUMMARY:Central Washington State Fair
DESCRIPTION:Since 1892 when Washington State held its first fair on these grounds\, State Fair Park has served the community and the region as a gathering place for numerous activities and events\, including our signature event…the annual Central Washington State Fair. We are proud to return to our hometown Fair this year and serve the people of our community.
URL:https://tahviosbbq.com/event/central-washington-state-fair/
LOCATION:Yakima State Fair Park\, 1301 S Fair Ave\, Yakima\, WA\, 98901\, United States
ATTACH;FMTTYPE=image/png:https://tahviosbbq.com/wp-content/uploads/2023/08/YakFair.png
END:VEVENT
BEGIN:VEVENT
DTSTART;VALUE=DATE:20230915
DTEND;VALUE=DATE:20230917
DTSTAMP:20260423T152035
CREATED:20230802T152634Z
LAST-MODIFIED:20230802T152634Z
UID:3632-1694736000-1694908799@tahviosbbq.com
SUMMARY:Hop Country Music Festival
DESCRIPTION:Join us on September 15th and 16th for an electrifying weekend of country music magic at the Hop Country Music Festival! What a great night to enjoy some good music\, ice cold beverages and BBQ from Tahvio. Come out and support this local event.\n\n𝑭𝒓𝒊𝒅𝒂𝒚\, 𝑺𝒆𝒑𝒕𝒆𝒎𝒃𝒆𝒓 15:\nAaron Crawford\nAshland Craft\nNEAL MCCOY!\n\n𝑺𝒂𝒕𝒖𝒓𝒅𝒂𝒚\, 𝑺𝒆𝒑𝒕𝒆𝒎𝒃𝒆𝒓 16:\nAfton Prater\nCody Beebe & the Crooks\nDrake White\nEaston Corbin\nCHRIS JANSON!
URL:https://tahviosbbq.com/event/hop-country-music-festival/
LOCATION:Sozo Sports Complex\, 2200 S. 36th Ave.\, Yakima\, WA\, 98902\, United States
ATTACH;FMTTYPE=image/png:https://tahviosbbq.com/wp-content/uploads/2023/08/HCMF.png
END:VEVENT
BEGIN:VEVENT
DTSTART;TZID=UTC:20230831T100000
DTEND;TZID=UTC:20230904T220000
DTSTAMP:20260423T152035
CREATED:20230802T150041Z
LAST-MODIFIED:20230802T150041Z
UID:3628-1693476000-1693864800@tahviosbbq.com
SUMMARY:Kittitas County Fair
DESCRIPTION:The Kittitas Valley Event Center is a historic facility based in Ellensburg\, WA. Home to the Kittitas County Fair! We will be there set up and ready to serve you some delicious Barbecue. \n\n\n\n\n\n\nFAIR HOURS\nThursday – 10:00AM to 10:00PM\nFriday and Saturday – 10:00AM to 11:00PM\nSunday – 10:00AM to 10:00PM\nMonday – 10:00AM to 6:00PM\n\n\n\n\n\n\n\n\n\n\n\n\n\nDAILY ADMISSION\n\nGENERAL (13 years & over) – $10.00\nSenior Citizen (60+) or Child (6-12) – $6.00\nAge 5 & under or Active Service Military with ID – FREE
URL:https://tahviosbbq.com/event/kittitas-county-fair/
LOCATION:Kittitas Valley Event Center\, 901 E. 7th Ave.\, Ellensburg\, 98926\, United States
ATTACH;FMTTYPE=image/png:https://tahviosbbq.com/wp-content/uploads/2023/08/EburgFair.png
END:VEVENT
BEGIN:VEVENT
DTSTART;VALUE=DATE:20230804
DTEND;VALUE=DATE:20230805
DTSTAMP:20260423T152035
CREATED:20230801T170913Z
LAST-MODIFIED:20230801T170913Z
UID:3622-1691107200-1691193599@tahviosbbq.com
SUMMARY:49th Annual Vintiques NW Nationals
DESCRIPTION:The 49th Annual Vintiques NW Nationals is coming to Yakima\, August 3rd-6th\, 2023. Everything you want in a Rod Run and more! We will be on site and set up to serve you! Join us for some outdoor family fun.
URL:https://tahviosbbq.com/event/49th-annual-vintiques-nw-nationals/
LOCATION:Yakima State Fair Park\, 1301 S Fair Ave\, Yakima\, WA\, 98901\, United States
ATTACH;FMTTYPE=image/png:https://tahviosbbq.com/wp-content/uploads/2023/08/Vntqs.png
END:VEVENT
BEGIN:VEVENT
DTSTART;TZID=UTC:20230802T150000
DTEND;TZID=UTC:20230802T200000
DTSTAMP:20260423T152035
CREATED:20230801T165137Z
LAST-MODIFIED:20230802T202502Z
UID:3609-1690988400-1691006400@tahviosbbq.com
SUMMARY:Bale Breaker Brewing Co.
DESCRIPTION:Catch us out at Bale Breaker Brewing Co. this Wednesday! We will have a delicious menu\, serving our signature dishes from 3-8pm. Enjoy a cold beverage and some of our mouth watering bbq\, it’s a great combination in this beautiful weather. \n  \n 
URL:https://tahviosbbq.com/event/bale-breaker-brewing-co/
LOCATION:Bale Breaker Brewing Co.\, 1801 Birchfield Rd.\, Yakima\, 98901\, United States
ATTACH;FMTTYPE=image/png:https://tahviosbbq.com/wp-content/uploads/2023/08/bb3.png
END:VEVENT
END:VCALENDAR